Workbook
Name _: #REF!
Name __Ве: #REF!
Name __Вероят: #REF!
Name __Вероятность_погашения: #REF!
Name _0000: #REF!
Name _0107: #REF!
Name _1._Касса_и_краткосрочные_средства: #REF!
Name _10._Прочие_пассивы: #REF!
Name _1061: [1]Trial!$M$19
Name _11._Акционерный_капитал: #REF!
Name _1120: [1]Trial!$M$30
Name _1172: [1]Trial!$M$43
Name _12._Нераспределенная_прибыль_и_резервы: #REF!
Name _13._Прибыли_и_убытки_отчетного_года__сальдо: #REF!
Name _1460: #REF!
Name _1461: #REF!
Name _1464: #REF!
Name _1465: #REF!
Name _1474: #REF!
Name _1475: #REF!
Name _1480: #REF!
Name _1485: #REF!
Name _1510: #REF!
Name _1511: #REF!
Name _1515: #REF!
Name _1516: #REF!
Name _1530: #REF!
Name _1531: #REF!
Name _1533: [1]Trial!$M$75
Name _2489: #REF!
Name _2920: [1]Trial!$M$141
Name _3._Кредиты_клиентам: #REF!
Name _3100: #REF!
Name _3200: #REF!
Name _3320: #REF!
Name _4._Кредиты_банкам: #REF!
Name _4110: #REF!
Name _4410: #REF!
Name _4905: #REF!
Name _5120: #REF!
Name _5136: #REF!
Name _5200: #REF!
Name _5436: #REF!
Name _5900: #REF!
Name _6._Основные_средства: #REF!
Name _6060: #REF!
Name _6074: #REF!
Name _6383: #REF!
Name _6410: #REF!
Name _6420: #REF!
Name _6421: #REF!
Name _6450: #REF!
Name _6650: #REF!
Name _6950: #REF!
Name _7._Прочие_активы: #REF!
Name _7100: #REF!
Name _7210: #REF!
Name _8._Средства__принадлежащие_вкладчикам: #REF!
Name _8250: #REF!
Name _8300: #REF!

Sheet BS for the book
B1: ООО "Страховая компания Интери" (до 2018 года - ООО "Страховая компания Европлан") | O1: тыс. руб
C2: 31.12.2012*** | D2: 31.12.2013** | E2: 31.12.2014* | F2: 31.12.2015* | G2: 31.12.2016* | H2: 43100 | I2: 43465 | J2: 43830 | K2: 44196 | L2: 44561 | M2: 44926 | N2: 45291 | O2: 45657
B3: АКТИВЫ
A4: Денежные средства и эквиваленты | B4: Денежные и приравненные к ним средства | C4: 153845 | D4: 256919 | E4: 500262 | F4: 1086347 | G4: 118792 | H4: 55442.78 | I4: 213205.57 | J4: 186731.36 | K4: 159359 | L4: 330487 | M4: 116144 | N4: 201802 | O4: 225283
A5: Депозиты в банках | B5: Банковские депозиты | C5: 204503 | D5: 255092 | E5: 260513 | F5: 0 | G5: 1205771 | H5: 999759.65 | I5: 105247.67 | J5: 106280 | K5: 202780 | L5: 0 | M5: 0 | N5: 0 | O5: 0
A6: Финансовые активы, переоцениваемые по справедливой стоимости через прибыли и убытки | B6: Финансовые инструменты, оцениваемые по справедливой стоимости, изменения которой отражаются в составе прибыли или убытка | C6: 146343 | D6: 128607 | E6: 107252 | F6: 96422 | G6: 129702 | H6: 814398.94 | I6: 127749.27 | J6: 1010319 | K6: 0 | L6: 0 | M6: 0 | N6: 0 | O6: 0
A7: Финасовые активы, имеющиеся в наличие для продажи | B7: Финасовые активы, имеющиеся в наличие для продажи | C7: - | D7: - | E7: - | F7: - | G7: - | H7: 0 | I7: 598992.43 | J7: 73344 | K7: 610373 | L7: 836360.75 | M7: 1401151 | N7: 1678424 | O7: 1031144
A8: Дебиторская задолженность по операциям страхования | B8: Дебиторская задолженность по операциям страхования и перестрахования | C8: 49977 | D8: 58856 | E8: 180766 | F8: 172340 | G8: 187047 | H8: 206980.25 | I8: 281773.36 | J8: 255657.03 | K8: 230290 | L8: 241154.32 | M8: 308215 | N8: 351923 | O8: 338762
B9: Дебиторская задолженность по суброгационным и регрессным требованиям | C9: 528 | D9: 34259 | E9: 5326 | F9: 2070 | G9: 6920 | H9: 4318.3551 | I9: 5378.397 | J9: 20626.458 | K9: 9298 | L9: 14666 | M9: 7633 | N9: 4839 | O9: 33343
A10: Доля перестраховщиков в резерве незаработанной премии, Доля перестраховщиков в резерве убытков | B10: Доля перестраховщиков в страховых резервах | C10: 9889 | D10: 8881 | E10: 7787 | F10: 3214 | G10: 7318 | H10: 11918.982 | I10: 12192.409 | J10: 4574.954 | K10: 399 | L10: 321 | M10: 323 | N10: 2646 | O10: 2414
A11: Отложенные аквизиционные расходы | B11: Отложенные аквизиционные расходы | C11: 63877 | D11: 79541 | E11: 132493 | F11: 149494 | G11: 171741 | H11: 196336.22 | I11: 253162.34 | J11: 238137.1 | K11: 227092 | L11: 209164 | M11: 277061 | N11: 342584 | O11: 348771
B12: Предоплата по текущему налогу на прибыль | C12: 1004 | D12: 9513 | E12: 8155 | F12: 0 | G12: 3730 | H12: 12690.973 | I12: 0 | J12: 700 | K12: 11008.11 | L12: 13474 | M12: 12059 | N12: 0 | O12: 28792
A13: Предоплаты и прочие активы | B13: Прочие активы | C13: 7107 | D13: 7859 | E13: 7237 | F13: 8840 | G13: 6521 | H13: 5547 | I13: 7373.9206 | J13: 6511.1655 | K13: 12747.89 | L13: 9834 | M13: 7605 | N13: 57940 | O13: 98288
A14: Основные средства и нематериальные активы | B14: Основные средства и НМА | C14: - | D14: 356 | E14: 279 | F14: 67 | G14: 32 | H14: 6.90499 | I14: 4646.7851 | J14: 3632.7111 | K14: 2616 | L14: 6600 | M14: 4560 | N14: 11783 | O14: 25037
B15: Всего активов | C15: =SUM(C4:C14) -> 637073 | D15: =SUM(D4:D14) -> 839883 | E15: =SUM(E4:E14) -> 1210070 | F15: =SUM(F4:F14) -> 1518794 | G15: =SUM(G4:G14) -> 1837574 | H15: =SUM(H4:H14) -> 2307400.1 | I15: =SUM(I4:I14) -> 1609722.2 | J15: =SUM(J4:J14) -> 1906513.7 | ... O15: =SUM(O4:O14) -> 2131834
B17: ОБЯЗАТЕЛЬСТВА | K17: 0
A18: Резерв незаработанной премии, Резерв убытков | B18: Страховые резервы | C18: 420645 | D18: 520926 | E18: 723054 | F18: 750795 | G18: 752704 | H18: 787673.96 | I18: 983570.39 | J18: 905749.36 | K18: 873466 | L18: 820943 | M18: 944230 | N18: 1141347 | O18: 1160999
A19: Кредиторская задолженность по операциям страхования | B19: Кредиторская задолженность по операциям страхования и перестрахования | C19: 13411 | D19: 16605 | E19: 49379 | F19: 48983 | G19: 53696 | H19: 73672.293 | I19: 104272.14 | J19: 86778.955 | K19: 80756 | L19: 81444 | M19: 151778 | N19: 175873 | O19: 153288
B20: Обязательства по текущему налогу на прибыль | C20: - | D20: - | E20: 0 | F20: 3122 | G20: 0 | H20: 1013.1353 | I20: 3094.5966 | J20: 1763.3233 | K20: 620.95733 | L20: 1501 | M20: 2890 | N20: 20301 | O20: 3534
A21: Отложенные налоговые обязательства | B21: Обязательства по отложенному налогу на прибыль | C21: 2307 | D21: 8018 | E21: 6890 | F21: 7441 | G21: 12313 | H21: 39051.624 | I21: 30237.845 | J21: 40383.996 | K21: 33772 | L21: 34460 | M21: 19475 | N21: 0 | O21: 0
A22: Прочая кредиторская задолженность и прочие обязательства | B22: Прочие обязательства | C22: 2054 | D22: 2815 | E22: 7370 | F22: 26176 | G22: 32080 | H22: 18532 | I22: 17445.659 | J22: 8933.633 | K22: 12883 | L22: 15304 | M22: 17305 | N22: 25359 | O22: 20779
B23: Всего обязательств | C23: =SUM(C18:C22) -> 438417 | D23: =SUM(D18:D22) -> 548364 | E23: =SUM(E18:E22) -> 786693 | F23: =SUM(F18:F22) -> 836517 | G23: =SUM(G18:G22) -> 850793 | H23: =SUM(H18:H22) -> 919943.01 | I23: =SUM(I18:I22) -> 1138620.6 | J23: =SUM(J18:J22) -> 1043609.3 | ... O23: =SUM(O18:O22) -> 1338600
B25: КАПИТАЛ
A26: Уставный капитал | B26: Уставный капитал | C26: 120000 | D26: 120000 | E26: 120000 | F26: 120000 | G26: 120000 | H26: 120000 | I26: 120000 | J26: 180000 | K26: 240000 | L26: 240000 | M26: 300000 | N26: 300000 | O26: 300000
A27: Добавочный капитал | B27: Добавочный капитал | C27: 64491 | D27: 64491 | E27: 64491 | F27: 64491 | G27: 64491 | H27: 64491.41 | I27: 64491.41 | J27: 64491.41 | K27: 4491 | L27: 4491 | M27: 4491 | N27: 4491 | O27: 4491
B28: Резерв переоценки инвестиций, имеющихся в наличии для продажи | C28: 0 | D28: 0 | E28: 0 | F28: 0 | G28: 0 | H28: 0 | I28: -9097.4267 | J28: 27515.454 | K28: 239 | L28: -3203 | M28: -21035 | N28: -107110 | O28: -66892
A29: Нераспределенная прибыль, Резерв переоценки | B29: Нераспределеннная прибыль | C29: 14165 | D29: 107028 | E29: 238886 | F29: 497786 | G29: 802290 | H29: 1202965.2 | I29: 295707.05 | J29: 590897.6 | K29: 219735 | L29: 467121 | M29: 715617 | N29: 1091680 | O29: 555635
B30: Всего капитала | C30: =SUM(C26:C29) -> 198656 | D30: =SUM(D26:D29) -> 291519 | E30: =SUM(E26:E29) -> 423377 | F30: =SUM(F26:F29) -> 682277 | G30: =SUM(G26:G29) -> 986781 | H30: =SUM(H26:H29) -> 1387456.6 | I30: =SUM(I26:I29) -> 471101.03 | J30: =SUM(J26:J29) -> 862904.47 | ... O30: =SUM(O26:O29) -> 793234
B31: Всего обязательств и капитала | C31: =C23+C30 -> 637073 | D31: =D23+D30 -> 839883 | E31: =E23+E30 -> 1210070 | F31: =F23+F30 -> 1518794 | G31: =G23+G30 -> 1837574 | H31: =H23+H30 -> 2307399.7 | I31: =I23+I30 -> 1609721.7 | J31: =J23+J30 -> 1906513.7 | ... O31: =O23+O30 -> 2131834
B34: ROE | D34: ='PL for the book'!D23/AVERAGE(C30:D30) -> 0.37889733 | E34: ='PL for the book'!E23/AVERAGE(D30:E30) -> 0.31791198 | F34: ='PL for the book'!F23/AVERAGE(E30:F30) -> 0.46832011 | G34: ='PL for the book'!G23/AVERAGE(F30:G30) -> 0.36488127 | H34: ='PL for the book'!H23/AVERAGE(G30:H30) -> 0.33751927 | I34: ='PL for the book'!I23/AVERAGE(H30:I30) -> 0.31502096 | J34: ='PL for the book'!J23/AVERAGE(I30:J30) -> 0.54751025 | K34: ='PL for the book'!K23/AVERAGE(J30:K30) -> 0.42498401 | L34: ='PL for the book'!L23/AVERAGE(L30,K30) -> 0.42242635 | M34: ='PL for the book'!M23/AVERAGE(M30,L30) -> 0.36134652 | N34: ='PL for the book'!N23/AVERAGE(N30,M30) -> 0.32870702 | O34: ='PL for the book'!O23/AVERAGE(O30,N30) -> 0.28233848
B38: *2024г. на основании финансовой отчетности ООО "Страховая компания ИНТЕРИ" в соответствии с Международными стандартами финансовой отчетности на 31 декабря 2024 и за 2024 год
B39: *2023г. на основании финансовой отчетности ООО "Страховая компания ИНТЕРИ" в соответствии с Международными стандартами финансовой отчетности на 31 декабря 2023 и за 2023 год
B40: *2022г. на основании финансовой отчетности ООО "Страховая компания ИНТЕРИ" в соответствии с Международными стандартами финансовой отчетности на 31 декабря 2022 и за 2022 год
B41: *2021г. на основании финансовой отчетности ООО "Страховая компания ИНТЕРИ" в соответствии с Международными стандартами финансовой отчетности на 31 декабря 2021 и за 2021 год
B42: *2020г. на основании финансовой отчетности ООО "Страховая компания ИНТЕРИ" в соответствии с Международными стандартами финансовой отчетности на 31 декабря 2020 и за 2020 год
B43: *2019г. на основании финансовой отчетности ООО "Страховая компания ИНТЕРИ" в соответствии с Международными стандартами финансовой отчетности на 31 декабря 2019 и за 2019 год
B44: *2018г. на основании финансовой отчетности ООО "Страховая компания ИНТЕРИ" в соответствии с Международными стандартами финансовой отчетности на 31 декабря 2018 и за 2018 год
B45: *2017г. на основании финансовой отчетности ООО "Страховая компания ИНТЕРИ" в соответствии с Международными стандартами финансовой отчетности на 31 декабря 2017 и за 2017 год
B46: *2016-2014гг. на основании финансовой отчетности ООО "Страховая компания Европлан" в соответствии с Международными стандартами финансовой отчетности за 2015 год
B47: *2013г. на основании финансовой отчетности ООО "Страховая компания Европлан" в соответствии с Международными стандартами финансовой отчетности на 31 декабря 2014 и за 2014 год
...

Sheet PL for the book
B1: ООО "Страховая компания Интери" (до 2018 года - ООО "Страховая компания Европлан") | O1: тыс. руб
C2: 2012 год*** | D2: 2013 год** | E2: 2014 год* | F2: 2015 год* | G2: 2016 год* | H2: 2017 | I2: 2018 | J2: 2019 | K2: 2020 | L2: 2021 | M2: 2022 | N2: 2023 | O2: 2024
A3: Страховая премия – всего | B3: Общая сумма страховых премий | C3: 460305 | D3: 587989 | E3: 902045 | F3: 1017417 | G3: 1082763 | H3: 1114082.7 | I3: 1306133.2 | J3: 1265691 | K3: 1185052 | L3: 1069277 | M3: {=SUM(IF(NOT(ISERROR(FIND([51]PL!$B$3:$B$46,$A3))),[51]PL!$C$3:$C$46))} -> 1228721 | N3: {=SUM(IF(NOT(ISERROR(FIND([52]PL!$B$3:$B$46,$A3))),[52]PL!$C$3:$C$46))} -> 1590972 | O3: 1666266
A4: Страховая премия, переданная перестраховщикам | B4: Премии, переданные в перестрахование | C4: -9598 | D4: -11704 | E4: -14487 | F4: -14638 | G4: -12662 | H4: -16331.01 | I4: -20040.855 | J4: -6193.4465 | K4: -767 | L4: -648 | M4: {=SUM(IF(NOT(ISERROR(FIND([51]PL!$B$3:$B$46,$A4))),[51]PL!$C$3:$C$46))} -> -651 | N4: {=SUM(IF(NOT(ISERROR(FIND([52]PL!$B$3:$B$46,$A4))),[52]PL!$C$3:$C$46))} -> -3351 | O4: -3060
B5: Общая сумма страховых премий, нетто перестрахование | C5: =SUM(C3:C4) -> 450707 | D5: =SUM(D3:D4) -> 576285 | E5: =SUM(E3:E4) -> 887558 | F5: =SUM(F3:F4) -> 1002779 | G5: =SUM(G3:G4) -> 1070101 | H5: =SUM(H3:H4) -> 1097751.7 | I5: =SUM(I3:I4) -> 1286092.4 | J5: =SUM(J3:J4) -> 1259497.5 | ... O5: =SUM(O3:O4) -> 1663206
A6: Изменение резерва под обесценение дебиторской задолженности | B6: Аннулированные премии и изменение резерва под обесценение дебиторской задолженности по операциям страхования | C6: -11363 | D6: -35141 | E6: -7038 | F6: -17655 | G6: -21860 | H6: 0 | I6: 0 | J6: 0 | K6: 0 | L6: 0 | M6: {=SUM(IF(NOT(ISERROR(FIND([51]PL!$B$3:$B$46,$A6))),[51]PL!$C$3:$C$46))} -> 0 | N6: {=SUM(IF(NOT(ISERROR(FIND([52]PL!$B$3:$B$46,$A6))),[52]PL!$C$3:$C$46))} -> 0 | O6: 0
A7: Изменение резерва незаработанной премии - всего | B7: Изменение резерва незаработанной премии, брутто | C7: -96550 | D7: -65499 | E7: -220212 | F7: -17653 | G7: -41411 | H7: -24223.158 | I7: -134070.47 | J7: 65126.106 | K7: 41308 | L7: 45869 | M7: {=SUM(IF(NOT(ISERROR(FIND([51]PL!$B$3:$B$46,$A7))),[51]PL!$C$3:$C$46))} -> -111300 | N7: {=SUM(IF(NOT(ISERROR(FIND([52]PL!$B$3:$B$46,$A7))),[52]PL!$C$3:$C$46))} -> -142644 | O7: 10986
A8: Изменение доли перестраховщиков в резерве незаработанной премии | B8: Изменение доли перестраховщиков в резерве незаработанной премии | C8: 1961 | D8: 801 | E8: 608 | F8: -2454 | G8: 2905 | H8: 1806.004 | I8: 1922.726 | J8: -10188.14 | K8: -455 | L8: -59 | M8: {=SUM(IF(NOT(ISERROR(FIND([51]PL!$B$3:$B$46,$A8))),[51]PL!$C$3:$C$46))} -> 2 | N8: {=SUM(IF(NOT(ISERROR(FIND([52]PL!$B$3:$B$46,$A8))),[52]PL!$C$3:$C$46))} -> 2323 | O8: -232
B9: Чистые заработанные премии | C9: =SUM(C5:C8) -> 344755 | D9: =SUM(D5:D8) -> 476446 | E9: =SUM(E5:E8) -> 660916 | F9: =SUM(F5:F8) -> 965017 | G9: =SUM(G5:G8) -> 1009735 | H9: =SUM(H5:H8) -> 1075334.5 | I9: =SUM(I5:I8) -> 1153944.6 | J9: =SUM(J5:J8) -> 1314435.5 | ... O9: =SUM(O5:O8) -> 1673960
A10: Страховые выплаты – всего, Доля перестраховщиков в страховых выплатах | B10: Страховые выплаты, нетто перестрахование | C10: -151862 | D10: -291066 | E10: -367536 | F10: -507251 | G10: -544850 | H10: -409719.57 | I10: -403831.6 | J10: -499781.46 | K10: -525323 | L10: -498884 | M10: {=SUM(IF(NOT(ISERROR(FIND([51]PL!$B$3:$B$46,$A10))),[51]PL!$C$3:$C$46))} -> -423536 | N10: {=SUM(IF(NOT(ISERROR(FIND([52]PL!$B$3:$B$46,$A10))),[52]PL!$C$3:$C$46))} -> -526637 | O10: -602255
A11: Изменение резервов убытков – всего, Изменение доли перестраховщиков в резерве убытков | B11: Изменение резерва убытков, нетто перестрахование | C11: -108388 | D11: -36591 | E11: -82052 | F11: -49443 | G11: 44507 | H11: 13496.416 | I11: -63475.261 | J11: 15265.605 | K11: -24075 | L11: 12004 | M11: {=SUM(IF(NOT(ISERROR(FIND([51]PL!$B$3:$B$46,$A11))),[51]PL!$C$3:$C$46))} -> -19020 | N11: {=SUM(IF(NOT(ISERROR(FIND([52]PL!$B$3:$B$46,$A11))),[52]PL!$C$3:$C$46))} -> -57267 | O11: -2134
A12: Расходы на урегулирование убытков | B12: Внешние расходы на урегулирование убытков | C12: -3252 | D12: -6505 | E12: -9550 | F12: -20353 | G12: -21208 | H12: -42945.295 | I12: -37347.884 | J12: -39580.186 | K12: -30471 | L12: -32689 | M12: {=SUM(IF(NOT(ISERROR(FIND([51]PL!$B$3:$B$46,$A12))),[51]PL!$C$3:$C$46))} -> -32299 | N12: {=SUM(IF(NOT(ISERROR(FIND([52]PL!$B$3:$B$46,$A12))),[52]PL!$C$3:$C$46))} -> -34340 | O12: -40280
B13: Произошедшие убытки, нетто престрахование | C13: =SUM(C10:C12) -> -263502 | D13: =SUM(D10:D12) -> -334162 | E13: =SUM(E10:E12) -> -459138 | F13: =SUM(F10:F12) -> -577047 | G13: =SUM(G10:G12) -> -521551 | H13: =SUM(H10:H12) -> -439168.45 | I13: =SUM(I10:I12) -> -504654.74 | J13: =SUM(J10:J12) -> -524096.04 | ... O13: =SUM(O10:O12) -> -644669
A14: Полученные возмещения по суброгации и регрессным искам | B14: Доходы от суброгационных требований и реализации переданного страховщику имущества | C14: 24134 | D14: 90219 | E14: 121705 | F14: 115712 | G14: 122513 | H14: 104724.4 | I14: 80809.738 | J14: 88024.97 | K14: 80885 | L14: 127266 | M14: {=SUM(IF(NOT(ISERROR(FIND([51]PL!$B$3:$B$46,$A14))),[51]PL!$C$3:$C$46))} -> 121542 | N14: {=SUM(IF(NOT(ISERROR(FIND([52]PL!$B$3:$B$46,$A14))),[52]PL!$C$3:$C$46))} -> 134452 | O14: 127932
B15: Изменение резерва по незавершенным судебным искам | H15: 0 | I15: 0 | J15: 0 | M15: {=SUM(IF(NOT(ISERROR(FIND([51]PL!$B$3:$B$46,$A15))),[51]PL!$C$3:$C$46))} -> 0 | N15: {=SUM(IF(NOT(ISERROR(FIND([52]PL!$B$3:$B$46,$A15))),[52]PL!$C$3:$C$46))} -> 0 | O15: {=SUM(IF(NOT(ISERROR(FIND([52]PL!$B$3:$B$46,$A15))),[52]PL!$C$3:$C$46))} -> 0
A16: Аквизиционные расходы - всего, Комиссионный доход по операциям перестрахования | B16: Аквизиционные расходы | C16: -89325 | D16: -120523 | E16: -167859 | F16: -248341 | G16: -279474 | H16: -329354.11 | I16: -383244.61 | J16: -455123 | K16: -428045 | L16: -397692 | M16: {=SUM(IF(NOT(ISERROR(FIND([51]PL!$B$3:$B$46,$A16))),[51]PL!$C$3:$C$46))} -> -428538 | N16: {=SUM(IF(NOT(ISERROR(FIND([52]PL!$B$3:$B$46,$A16))),[52]PL!$C$3:$C$46))} -> -608759 | O16: -734018
B17: Результат от страховой деятельности | C17: =SUM(C13:C16)+C9 -> 16062 | D17: =SUM(D13:D16)+D9 -> 111980 | E17: =SUM(E13:E16)+E9 -> 155624 | F17: =SUM(F13:F16)+F9 -> 255341 | G17: =SUM(G13:G16)+G9 -> 331223 | H17: =SUM(H13:H16)+H9 -> 411536.36 | I17: =SUM(I13:I16)+I9 -> 346854.99 | J17: =SUM(J13:J16)+J9 -> 423241.4 | ... O17: =SUM(O13:O16)+O9 -> 423205
A18: Результат от инвестиционной деятельности | B18: Чистый инвестиционный доход | C18: 33799 | D18: 42451 | E18: 40063 | F18: 137095 | G18: 129310 | H18: 154856.13 | I18: 89852.261 | J18: 102029.8 | K18: 117211.4 | L18: 48889.444 | M18: {=SUM(IF(NOT(ISERROR(FIND([51]PL!$B$3:$B$46,$A18))),[51]PL!$C$3:$C$46))} -> 115439.34 | N18: {=SUM(IF(NOT(ISERROR(FIND([52]PL!$B$3:$B$46,$A18))),[52]PL!$C$3:$C$46))} -> 166803.85 | O18: 794
A19: Операционные расходы | B19: Административные расходы | C19: -25566 | D19: -39601 | E19: -53772 | F19: -70732 | G19: -82964 | H19: -67264.171 | I19: -74624.016 | J19: -72945.881 | K19: -65850 | L19: -63651 | M19: {=SUM(IF(NOT(ISERROR(FIND([51]PL!$B$3:$B$46,$A19))),[51]PL!$C$3:$C$46))} -> -69213 | N19: {=SUM(IF(NOT(ISERROR(FIND([52]PL!$B$3:$B$46,$A19))),[52]PL!$C$3:$C$46))} -> -58812 | O19: -78339
A20: Прочие расходы | B20: Прочие операционные доходы/(расходы) | C20: =-4391+108 -> -4283 | D20: -38 | E20: -3 | F20: 1511 | G20: 2621 | H20: 151.9552 | I20: 279.81517 | J20: 262.94974 | K20: 41 | L20: -975 | M20: {=SUM(IF(NOT(ISERROR(FIND([51]PL!$B$3:$B$46,$A20))),[51]PL!$C$3:$C$46))} -> -205 | N20: {=SUM(IF(NOT(ISERROR(FIND([52]PL!$B$3:$B$46,$A20))),[52]PL!$C$3:$C$46))} -> -192 | O20: -259
B21: Прибыль до вычета налога на прибыль | C21: =SUM(C17:C20) -> 20012 | D21: =SUM(D17:D20) -> 114792 | E21: =SUM(E17:E20) -> 141912 | F21: =SUM(F17:F20) -> 323215 | G21: =SUM(G17:G20) -> 380190 | H21: =SUM(H17:H20) -> 499280.27 | I21: =SUM(I17:I20) -> 362363.05 | J21: =SUM(J17:J20) -> 452588.27 | ... O21: =SUM(O17:O20) -> 345401
A22: Доход/(расход) по налогу на прибыль | B22: Расход по налогу на прибыль | C22: -4032 | D22: -21929 | E22: -28275 | F22: -64315 | G22: -75686 | H22: -98604.798 | I22: -69620.738 | J22: -87397.434 | K22: -67456 | L22: -60981 | M22: {=SUM(IF(NOT(ISERROR(FIND([51]PL!$B$3:$B$46,$A22))),[51]PL!$C$3:$C$46))} -> -72446 | N22: {=SUM(IF(NOT(ISERROR(FIND([52]PL!$B$3:$B$46,$A22))),[52]PL!$C$3:$C$46))} -> -86486 | O22: -51445
B23: Чистая прибыль за год | C23: =SUM(C21:C22) -> 15980 | D23: =SUM(D21:D22) -> 92863 | E23: =SUM(E21:E22) -> 113637 | F23: =SUM(F21:F22) -> 258900 | G23: =SUM(G21:G22) -> 304504 | H23: =SUM(H21:H22) -> 400675.47 | I23: =SUM(I21:I22) -> 292742.31 | J23: =SUM(J21:J22) -> 365190.84 | ... O23: =SUM(O21:O22) -> 293956
A24: Итого совокупный доход за отчетный период | B24: Общий совокупный доход за год | C24: =C23 -> 15980 | D24: =D23 -> 92863 | E24: =E23 -> 113637 | F24: =F23 -> 258900 | G24: =G23 -> 304504 | H24: 400675.47 | I24: 283643.88 | J24: 401803.93 | K24: 249802.58 | L24: 245701.77 | M24: {=SUM(IF(NOT(ISERROR(FIND([51]PL!$B$3:$B$46,$A24))),[51]PL!$C$3:$C$46))} -> 290663.83 | N24: {=SUM(IF(NOT(ISERROR(FIND([52]PL!$B$3:$B$46,$A24))),[52]PL!$C$3:$C$46))} -> 289987.31 | O24: 334173
B26: ФОТ УУ
B27: ФОТ продавцов
B29: LR | C29: =(C13+C14+C15)/C9 -> -0.69431335 | D29: =(D13+D14+D15)/D9 -> -0.51200556 | E29: =(E13+E14+E15)/E9 -> -0.51055353 | F29: =(F13+F14+F15)/F9 -> -0.47805894 | G29: =(G13+G14+G15)/G9 -> -0.39519082 | H29: =(H13+H14+H15)/H9 -> -0.31101396 | I29: =(I13+I14+I15)/I9 -> -0.367301 | J29: =(J13+J14+J15)/J9 -> -0.33175541 | ... O29: =(O13+O14+O15)/O9 -> -0.30869137
B30: AR | C30: =C16/C9 -> -0.25909704 | D30: =D16/D9 -> -0.25296256 | E30: =E16/E9 -> -0.25397933 | F30: =F16/F9 -> -0.25734365 | G30: =G16/G9 -> -0.27677955 | H30: =H16/H9 -> -0.30628061 | I30: =I16/I9 -> -0.33211699 | J30: =J16/J9 -> -0.34624978 | ... O30: =O16/O9 -> -0.43849196
B31: CR | C31: =1-(C21-C18)/C9 -> 1.0399907 | D31: =1-(D21-D18)/D9 -> 0.84816537 | E31: =1-(E21-E18)/E9 -> 0.84589721 | F31: =1-(F21-F18)/F9 -> 0.80713293 | G31: =1-(G21-G18)/G9 -> 0.75153877 | H31: =-(1-(H21-H18)/H9) -> -0.67970512 | I31: =-(1-(I21-I18)/I9) -> -0.76384413 | J31: =-(1-(J21-J18)/J9) -> -0.73330112 | K31: =-(1-(K21-K18)/K9) -> -0.81038871 | L31: =-(1-(L21-L18)/L9) -> -0.76686207 | M31: =-(1-(M21-M18)/M9) -> -0.76225855 | N31: =-(1-(N21-N18)/N9) -> -0.79565743 | O31: =-(1-(O21-O18)/O9) -> -0.79413666
B36: *2024г. на основании финансовой отчетности ООО "Страховая компания ИНТЕРИ" в соответствии с Международными стандартами финансовой отчетности на 31 декабря 2024 и за 2024 год
B37: *2023г. на основании финансовой отчетности ООО "Страховая компания ИНТЕРИ" в соответствии с Международными стандартами финансовой отчетности на 31 декабря 2023 и за 2023 год
B38: *2022г. на основании финансовой отчетности ООО "Страховая компания ИНТЕРИ" в соответствии с Международными стандартами финансовой отчетности на 31 декабря 2022 и за 2022 год
B39: *2021г. на основании финансовой отчетности ООО "Страховая компания ИНТЕРИ" в соответствии с Международными стандартами финансовой отчетности на 31 декабря 2021 и за 2021 год
B40: *2020г. на основании финансовой отчетности ООО "Страховая компания ИНТЕРИ" в соответствии с Международными стандартами финансовой отчетности на 31 декабря 2020 и за 2020 год
B41: *2019г. на основании финансовой отчетности ООО "Страховая компания ИНТЕРИ" в соответствии с Международными стандартами финансовой отчетности на 31 декабря 2019 и за 2019 год
B42: *2018г. на основании финансовой отчетности ООО "Страховая компания ИНТЕРИ" в соответствии с Международными стандартами финансовой отчетности на 31 декабря 2018 и за 2018 год
B43: *2017г. на основании финансовой отчетности ООО "Страховая компания ИНТЕРИ" в соответствии с Международными стандартами финансовой отчетности на 31 декабря 2017 и за 2017 год
B44: *2016-2015гг. на основании финансовой отчетности ООО "Страховая компания Европлан" в соответствии с Международными стандартами финансовой отчетности за 2016 год
B45: *2014г. на основании финансовой отчетности ООО "Страховая компания Европлан" в соответствии с Международными стандартами финансовой отчетности на 31 декабря 2015 и за 2015 год
B46: *2013г. на основании финансовой отчетности ООО "Страховая компания Европлан" в соответствии с Международными стандартами финансовой отчетности на 31 декабря 2014 и за 2014 год
...
